{"text_format":"1","workbook":"xlsx","n_sheets":5,"sheets":["comunidades","codigos","Simulación","datos_mapa","mapa"],"not_rendered":{"charts":0,"images":1,"macros":1,"external_links":0,"defined_names":3,"comments":1,"pivot_tables":0},"unopened":[],"bounds":{"document_bytes":16777216,"sheet_cells":100000,"rows_first":2000,"rows_last":500,"rows_between":2000,"halvings":0,"cell_chars":16384,"cell_head_chars":4096},"cells_cut":0,"cells_raw":0,"read":"whole","date_system":"1900"}

{"sheet":"comunidades","index":0,"n_rows":51,"n_cols":2,"rows_kept":51,"cut":false,"hidden":true,"merged":[]}
["Autonomia","Provincia"]
["Andalucía","Almería"]
["Andalucía","Cádiz"]
["Andalucía","Córdoba"]
["Andalucía","Granada"]
["Andalucía","Huelva"]
["Andalucía","Jaén"]
["Andalucía","Málaga"]
["Andalucía","Sevilla"]
["Aragón","Huesca"]
["Aragón","Teruel"]
["Aragón","Zaragoza"]
["Asturias","Asturias"]
["Cantabria","Cantabria"]
["Castilla y León","Ávila"]
["Castilla y León","Burgos"]
["Castilla y León","León"]
["Castilla y León","Palencia"]
["Castilla y León","Salamanca"]
["Castilla y León","Segovia"]
["Castilla y León","Soria"]
["Castilla y León","Valladolid"]
["Castilla y León","Zamora"]
["Castilla-La Mancha","Albacete"]
["Castilla-La Mancha","Ciudad Real"]
["Castilla-La Mancha","Cuenca"]
["Castilla-La Mancha","Guadalajara"]
["Castilla-La Mancha","Toledo"]
["Cataluña","Barcelona"]
["Cataluña","Gerona"]
["Cataluña","Lérida"]
["Cataluña","Tarragona"]
["Extremadura","Badajoz"]
["Extremadura","Cáceres"]
["Galicia","La Coruña"]
["Galicia","Lugo"]
["Galicia","Orense"]
["Galicia","Pontevedra"]
["Islas Baleares","Islas Baleares"]
["Islas Canarias","Santa Cruz de Tenerife"]
["Islas Canarias","Las Palmas"]
["La Rioja","La Rioja"]
["Madrid","Madrid"]
["Murcia","Murcia"]
["Navarra","Navarra"]
["País Vasco","Álava"]
["País Vasco","Guipúzcoa"]
["País Vasco","Vizcaya"]
["Valencia","Alicante"]
["Valencia","Castellón"]
["Valencia","Valencia"]

{"sheet":"codigos","index":1,"n_rows":88,"n_cols":6,"rows_kept":88,"cut":false,"hidden":true,"merged":[[0,0,0,2],[0,4,0,5]]}
["PROVINCIAS",null,null,null,"ZONAS"]
["Código",null,"Provincia","DGT","zona","provin2"]
["01",1,"Alava","NORTE","01 ALAVA","Alava"]
["02",2,"Albacete","ESTE","02 ALBACETE","Albacete"]
["03",3,"Alicante","ESTE","03 ALICANTE","Alicante"]
["04",4,"Almeria","SUR","04 ALMERIA","Almeria"]
["05",5,"Avila","CENTRO","05 AVILA","Avila"]
["06",6,"Badajoz","SUROESTE","06 BADAJOZ","Badajoz"]
["07",7,"Baleares","MADRID-BALEARES","07 BALEARES","Baleares"]
["08",8,"Barcelona","CATALUÑA","08 BARCELONA","Barcelona"]
["09",9,"Burgos","CENTRO","09 BURGOS","Burgos"]
["10",10,"Caceres","SUROESTE","10 CACERES","Caceres"]
["11",11,"Cadiz","SUROESTE","101 MONDRAGON GUIPUZCOA","Vizcaya"]
["12",12,"Castellon","ESTE","102 MONDRAGON VIZCAYA","Vizcaya"]
["13",13,"Ciudad Real","CENTRO","104 ORDUÑA","Lugo"]
["14",14,"Cordoba","SUR","105 RIBADEO-VIVERO NUEVO 33","Lugo"]
["15",15,"La Coruña","NOROESTE","106 RIBADEO-VIVERO NUEVO 27","Lugo"]
["16",16,"Cuenca","ESTE","107 LANZAROTE","Gran Canaria"]
["17",17,"Gerona","CATALUÑA","108 LA PALMA","Gran Canaria"]
["18",18,"Granada","SUR","109 GOMERA","Gran Canaria"]
["19",19,"Guadalajara","CENTRO","11 CADIZ","Cadiz"]
["20",20,"Guipuzcoa","NORTE","110 HIERRO","Tenerife"]
["21",21,"Huelva","SUROESTE","111 FUERTEVENTURA","Tenerife"]
["22",22,"Huesca","NORTE","114 BARCELONA (CAT II 10/05/05)","Barcelona"]
["23",23,"Jaen","SUR","116 FORMENTERA (01-01-06)","Baleares"]
["24",24,"Leon","CENTRO","118 MENORCA 10/01/2006","Baleares"]
["25",25,"Lerida","CATALUÑA","119 BARCELONA CAT II (05-04-06)","Barcelona"]
["26",26,"Logroño","NORTE","12 CASTELLON","Castellon"]
["27",27,"Lugo","NOROESTE","120 SAN NICOLAS","Tenerife"]
["28",28,"Madrid","MADRID-BALEARES","121 IBIZA","Baleares"]
["29",29,"Malaga","SUR","122 MONDRAGON GUIPUZCOA 01/2009","Guipuzcoa"]
["30",30,"Murcia","ESTE","123 RIBADEO-VIVERO 27 (2010)","Lugo"]
["31",31,"Navarra","NORTE","124 SIERRA DE HUELVA","Huelva"]
["32",32,"Orense","NOROESTE","125 SIERRA DE HUELVA (HUELVA)","Huelva"]
["33",33,"Asturias","NOROESTE","126 SIERRA DE HUELVA (BADAJOZ)","Badajoz"]
["34",34,"Palencia","CENTRO","128 SEVILLA CAPITAL","Sevilla"]
["35",35,"Gran Canaria","CANARIAS","13 CIUDAD REAL","Ciudad Real"]
["36",36,"Pontevedra","NOROESTE","14 CORDOBA","Cordoba"]
["37",37,"Salamanca","CENTRO","15 LA CORUÑA","La Coruña"]
["38",38,"Tenerife","CANARIAS","16 CUENCA","Cuenca"]
["39",39,"Cantabria","NOROESTE","17 GERONA","Gerona"]
["40",40,"Segovia","CENTRO","18 GRANADA","Granada"]
["41",41,"Sevilla","SUROESTE","19 GUADALAJARA","Guadalajara"]
["42",42,"Soria","CENTRO","20 GUIPUZCOA","Guipuzcoa"]
["43",43,"Tarragona","CATALUÑA","21 HUELVA","Huelva"]
["44",44,"Teruel","NORTE","22 HUESCA","Huesca"]
["45",45,"Toledo","CENTRO","23 JAEN","Jaen"]
["46",46,"Valencia","ESTE","24 LEON","Leon"]
["47",47,"Valladolid","CENTRO","25 LERIDA","Lerida"]
["48",48,"Vizcaya","NORTE","26 Logroño","Logroño"]
["49",49,"Zamora","CENTRO","27 LUGO","Lugo"]
["50",50,"Zaragoza","NORTE","28 MADRID","Madrid"]
["51",51,"Ceuta","SUROESTE","29 MALAGA","Malaga"]
["52",52,"Melilla","SUROESTE","30 MURCIA","Murcia"]
[null,null,null,null,"31 NAVARRA","Navarra"]
[null,null,null,null,"32 ORENSE","Orense"]
[null,null,null,null,"33 ASTURIAS","Asturias"]
[null,null,null,null,"34 PALENCIA","Palencia"]
[null,null,null,null,"35 GRAN CANARIA","Gran Canaria"]
[null,null,null,null,"36 PONTEVEDRA","Pontevedra"]
[null,null,null,null,"37 SALAMANCA","Salamanca"]
[null,null,null,null,"38 TENERIFE","Tenerife"]
[null,null,null,null,"39 CANTABRIA","Cantabria"]
[null,null,null,null,"40 SEGOVIA","Segovia"]
[null,null,null,null,"41 SEVILLA","Sevilla"]
[null,null,null,null,"42 SORIA","Soria"]
[null,null,null,null,"43 TARRAGONA","Tarragona"]
[null,null,null,null,"44 TERUEL","Teruel"]
[null,null,null,null,"45 TOLEDO","Toledo"]
[null,null,null,null,"46 VALENCIA","Valencia"]
[null,null,null,null,"47 VALLADOLID","Valladolid"]
[null,null,null,null,"48 VIZCAYA","Vizcaya"]
[null,null,null,null,"49 ZAMORA","Zamora"]
[null,null,null,null,"50 ZARAGOZA","Zaragoza"]
[null,null,null,null,"51 CEUTA","Ceuta"]
[null,null,null,null,"52 MELILLA","Melilla"]
[null,null,null,null,"66 SAGUNTO","Valencia"]
[null,null,null,null,"89 MONDRAGON (GUIPUZCOA)","Guipuzcoa"]
[null,null,null,null,"92 BAJO ARAGON","Teruel"]
[null,null,null,null,"93 RINCON ADEMUZ","Valencia"]
[null,null,null,null,"127 REINOSA","Cantabria"]
[null,null,null,null,"129 MONTEQUINTO","Sevilla"]
[null,null,null,null,"130 TESORILLO CADIZ","Cadiz"]
[null,null,null,null,"131 TESORILLO MALAGA","Malaga"]
[null,null,null,null,"132\tREINOSA Y LIEBANA\t","Cantabria"]
[null,null,null,null,"133\tYECLA Y JUMILLA\t\t","Murcia"]
[null,null,null,null,"134\tREINOSA NUEVA","Cantabria"]
[null,null,null,null,"135\tSIERRA DE HUELVA (HUELVA) 01/01/2013","Huelva"]

{"sheet":"Simulación","index":2,"n_rows":58,"n_cols":28,"rows_kept":58,"cut":false,"hidden":true,"merged":[[1,2,1,13],[1,14,1,25]]}
[1,2,5,6,7,8,9,10,11,12,13,14,15,16,17,18,19,20,21,22,23,24,25,26,27,28]
[null,null,"SINCO mayores de 30 años",null,null,null,null,null,null,null,null,null,null,null,"Total de la nueva producción",null,null,null,null,null,null,null,null,null,null,null,null,"Octubre - Diciembre"]
[null,null,"Enero ","Febrero","Marzo","Abril","Mayo","Junio","Julio","Agosto","Septiembre","Octubre","Noviembre","Diciembre","Enero ","Febrero","Marzo","Abril","Mayo","Junio","Julio","Agosto","Septiembre","Octubre","Noviembre","Diciembre",null,"Mayores de 30 años "]
[]
["ALAVA",null,44520.130039731092,40117.857609535698,62433.840002058256,48649.915800528754,41320.14255358425,36858.209173474999,52025.063601747803,25224.863361735741,35689.697742106029,52484.387423836059,44882.964262362708,56351.170238420775,122155.53168420363,155879.69394230904,146332.96529513059,120476.28207015697,125823.85038268469,121861.03036993464,151140.29630425555,100024.09223013248,97445.98101913248,116738.97948922739,104910.31222324847,125681.17761937097,null,{"$f":"+L5+M5+N5","v":153718.52192461953}]
["ALBACETE",null,100545.3302744331,105241.63407890842,129389.36964114344,105297.38375560194,115624.39083349709,122066.78214579602,112564.00680591221,96456.675256704519,86426.37236319884,130175.99299351622,133377.26570589468,145833.1912301917,336081.76402994659,295119.1910397929,305473.35274169641,257848.76186039514,281652.78990452946,270881.59300668782,348559.23442600633,251238.73796104876,215570.25890762525,297434.91138261091,258146.93685916922,281275.28508274019,null,{"$f":"+L6+M6+N6","v":409386.44992960256}]
["ALICANTE",null,369865.33486368321,418439.92756306962,477762.79559265793,416612.73761282605,423891.53831357765,461573.22676648566,431598.82942851452,305500.31349560595,291286.78662177542,458642.79177134379,445508.58572707558,470048.58932744904,1547629.954946406,1299160.2751338743,2734974.820241516,1472730.172851112,1570514.1481591978,1593995.0621168786,1570259.1777179223,902300.35805447609,790921.18848002015,896662.60039164394,863050.81666534452,900299.32266666088,null,1374199.9668258685]
["ALMERIA",null,336963.53942094324,408020.57095547521,504620.32209149655,368854.30531675648,402936.32583999482,366731.04030591791,379984.23238289281,290380.09307567548,249054.23797333651,366237.96602421807,355739.55893958581,380701.21040596417,808781.18868762197,891559.23047824891,1079907.904131565,928366.85956519586,966258.58550013974,1018130.9375651608,949663.17582082073,790740.85795632075,689578.10241241904,852817.56398270256,785261.20256139489,788784.54814270104,null,1102678.735369768]
["AVILA",null,40596.744297072299,39427.453532098109,49740.395840795245,41293.166386524063,46006.184147194152,44682.178607845119,52619.255120754809,36944.495083536996,36476.712022000051,46471.239795038702,46788.377455699905,43294.257948335835,126833.62076605912,115447.05027399918,141884.99374215424,116378.16254526263,142726.95408900845,155450.47353821108,134294.55284881682,123781.37117978153,97477.96213877463,147617.51874856494,144978.623636498,135269.30827045455,null,136553.87519907445]
["BADAJOZ",null,176198.13573021433,196603.35069534279,280515.33321606112,218007.34363397164,217155.33674379109,191600.49347368779,234033.42359524962,184384.10562387397,145964.34719930292,235019.08992427171,226982.25037950056,266308.00627257529,596667.22287427925,572203.12986952055,957638.2912246479,557028.35635621613,625200.92839286115,702355.68548346974,687730.18145982095,575419.61109996331,470197.94359256054,601230.90962030482,590827.7314815874,616200.1991486873,null,728309.34657634748]
["BALEARES",null,149991.09474264414,197230.91624930769,225774.66334482288,197608.53116331281,192062.62887004387,242632.62307421316,243274.65010509029,146549.32745207491,131413.13606213502,172586.85785842317,155506.35675798921,151093.22207553432,746634.33931070031,854801.39887747134,2501350.2249519289,1264784.5977078001,1579135.2134525685,1166834.6115952497,1208379.8266726299,722030.24728450505,477697.95131346246,422319.24075736461,398094.37405938521,370068.70453603542,null,479186.4366919467]
["BARCELONA",null,1572406.7017817358,1543803.5176936563,2018644.3213288968,1610345.6610180428,1583913.6564580929,1684064.5627721401,1670472.4421451024,968923.1501670971,925832.43094156473,1240903.532475868,1125587.5989275738,1212999.0001146384,3799488.8645111308,4005547.3009301266,4307054.1386380484,3458014.2296906044,3687101.0695827748,3944129.0706003779,4250742.5008964194,2523241.0278177997,2387818.4111774685,2653549.670777746,2533808.0600346215,2559697.9480398502,null,3579490.1315180799]
["BURGOS",null,66909.624444515095,61183.638878674363,80524.625942661354,66648.629940771178,71926.457194323404,75005.171337240419,79852.228761738603,62229.312170945297,57657.307980718811,78179.890599888022,71069.63815900698,65499.799442545635,309443.93375022931,190408.96045483754,220876.80175925948,192154.30063634325,225891.44867023741,252500.0959730639,242672.632698209,171273.48960849541,137086.10877345363,160635.44216539286,145506.45135262125,151268.02089460159,null,214749.32820144063]
["CACERES",null,112707.88833640539,124748.74809983051,159344.68331239701,141239.20208125745,133096.8103023413,129705.66462825565,127000.30288010783,98636.240379545517,87038.321987692732,131194.80326348008,123702.62387786846,132925.55769197748,320076.96047902503,338162.00316640257,369832.51328888396,317490.00524380966,337484.76286166214,352902.43214231753,356809.77162166341,304294.48548464081,270533.18013534462,346546.98459009716,318914.94620005146,341942.41092894744,null,387822.98483332602]
["CADIZ",null,407785.44725115324,371133.76428504282,521926.33953646,471266.06785795366,446725.69651022175,498769.78581773955,465174.39157916553,429971.37565183773,339007.15804753487,468047.12967000244,484496.6795146495,484728.75396479684,1083530.7292569212,994057.86925455276,1191524.0462217897,1045081.9510885244,1141735.4197789375,1218032.3568783598,1144096.0573411528,1102180.0104156125,894483.68069932726,911761.72618643951,964072.01620185806,908291.59685135633,null,1437272.5631494487]
["CASTELLON",null,162765.10911504651,188003.68957025275,197811.8586225266,169266.9661252753,194100.17701653621,219453.95785590683,204382.24359141703,170390.45995265449,132516.5368992349,239411.85123929026,178868.77544354132,217862.67714736037,445938.3044451194,1137512.2412343055,2590691.3937568255,1029776.0115643069,1250295.1561479943,2336897.7130301585,961770.14072529692,453114.1733932643,416050.3989281953,538769.24778009043,424001.77852582716,458728.09304020344,null,636143.30383019196]
["CIUDAD REAL",null,130720.07558736575,127206.55474349423,169530.63942942829,136848.01831574965,144955.13985082216,154883.97358955187,159062.42814759121,126259.20844081318,114138.96064138811,167705.12938029057,159743.39727733293,170012.76893197364,372519.11605942517,347355.94386001991,433268.97739225044,338345.99221829773,359982.34153938782,403418.37908983225,431194.95070288947,354763.67544309195,283519.21450120618,371500.32018438791,391209.05178435659,387578.82241967478,null,497461.29558959708]
["CORDOBA",null,179310.87587015887,236225.31380778641,335726.56128679944,237402.68023688096,236508.87074849638,211640.18142563265,273497.17394444824,174144.3287998446,144392.11527184033,243476.76866055603,232547.04080144048,242274.73775959015,477783.43006547575,570383.23588385212,699827.92321134987,512497.01111830794,526518.99783560738,520933.93259181839,624880.4161920062,451597.98017396481,400852.10012413876,516547.66107564955,521792.0670904147,509488.24387710978,null,718298.54722158669]
["LA CORUÑA",null,245133.48152463124,275787.03632162412,362705.26775648387,241617.30679078246,247377.76410900103,305239.12881854136,269585.09893049335,232298.98648899415,196059.86215199163,288905.73779690306,292906.5600462149,331255.24698208773,734829.568626764,851187.08765349304,808278.23869527422,652846.28704462165,631863.5865369332,773889.90453722549,729243.14555941895,677983.08477926149,581887.99022408132,584634.86895591789,589615.49681863817,626979.09907756466,null,913067.5448252057]
["CUENCA",null,56216.707276603112,66400.75813729348,72801.034384974686,72765.986202657106,70309.41161591647,62256.046317947163,68676.088022966796,62414.530701289594,53781.609760127154,74111.549734727407,60250.680525431337,62814.824896289363,169072.6855198089,193418.64857379149,210902.28816957708,201595.85347724881,198691.41313531407,190479.63880569887,215889.30180447421,220762.25312503925,161097.29202557949,197186.88190141227,198257.04800160928,176411.74180272056,null,197177.0551564481]
["GERONA",null,189547.44789082272,196256.47362772052,270401.71779776597,242236.2421019772,242813.96666339695,229967.81540328404,199858.71232810293,178775.53701464008,158315.83402500732,211693.96139756354,184229.91135814576,185752.35903611529,512007.23323695688,576396.89400826755,620249.43567053252,549570.20228366414,560771.72725132958,583908.15746746317,549218.76279220055,464751.56808067637,432900.46254233312,499230.17898768967,428631.47979736788,449783.50865954946,null,581676.23179182457]
["GRANADA",null,244070.54605127292,266387.45693972113,363443.56389424537,262067.33406539116,280140.06785744621,275669.90696310264,304942.59319434699,257637.84420154145,195296.78719787771,254781.59822957078,267777.10208542418,289734.98708274937,629460.03938376124,661995.87948522926,779210.59726907976,617838.37482650089,642667.32599117025,665206.26803350274,695097.85507181822,588425.6587798876,544829.17150678707,550562.63569439575,571828.58851567958,566687.70391891384,null,812293.68739774427]
["GUADALAJARA",null,74821.646414343675,70276.905775522071,92030.816682546007,74422.78571524439,70462.576625535483,84112.702702334718,91623.479251904413,56688.431329148429,43473.027732686205,71064.782422684424,81367.320031056443,65734.396229159393,333235.5456701559,252424.25082635725,268145.50234328624,247337.48047256045,255006.75640906248,275249.12383293902,325734.41859746556,216409.7481013111,179203.76005101504,235675.51023431469,249131.15125965752,209893.05379885217,null,218166.49868290027]
["GUIPUZCOA",null,94626.170122733834,102446.61749522449,124062.575571888,110592.36648425665,110147.19113705387,118859.23799734593,111282.04516842082,72960.354891612747,72495.54133977092,111486.34639591123,97653.835179236499,136997.29408917105,411684.80110233981,299452.80384048191,356487.86930444959,295131.70196069643,301592.75525973423,328004.28046252293,324381.79008799518,206015.9936736481,219971.40421948582,261824.97746436356,244693.66354298493,292932.68426491012,null,346137.47566431877]
["HUELVA",null,127197.18684809747,112522.19476494209,179636.54339985794,132486.30234656812,153437.98904937372,156289.96554940625,136542.96723373793,113539.38933408441,105542.71831183269,148151.57850771217,158997.21485241511,144049.75071279574,362471.86661656218,341726.53331322304,474915.89373907394,333922.64270359813,370236.21680269891,424888.02606567729,412629.49082203058,307968.95782162918,288062.46302689816,339146.64660809381,345668.96926266409,308085.02037878946,null,451198.54407292302]
["HUESCA",null,36079.920739249523,39120.761982274409,59082.030897463759,39687.351736963843,49153.078365445348,50433.830095660858,44000.717874188187,38292.24250873788,30349.38552920035,44652.489963019631,41186.658681330802,41288.902838466252,168463.53385256635,140490.27219662111,150733.1801515478,115284.421590987,126593.53934833758,140092.58179457451,146458.90803994538,110814.62326419297,114606.74370200899,104241.78606366688,100569.93672048577,94607.705438270859,null,127128.05148281669]
["JAEN",null,143173.65013385258,199540.97297574329,247738.68795084005,194165.55470693004,158913.26911174558,161310.70450582981,207826.68033601186,156178.08053208346,117937.63768869441,186957.76658555432,178026.51111100879,193687.2786417233,442353.05867731728,475206.7304982667,528544.30890274607,480132.92202292429,364899.85102646,402238.01554271887,467444.14072848635,421372.49320465489,372655.13904178748,387501.71576251427,395848.58694319171,392950.4838140317,null,558671.55633828638]
["LEON",null,77278.978734200457,103453.80480427964,125508.79357751412,110746.61964751942,102076.87344888112,113223.8241152976,121158.9751205236,92658.117549983872,82823.193004184563,90296.891265388971,95447.050399284897,106849.44400408064,238041.49302030899,279363.50389821018,292799.09094874637,240723.73603240232,322536.14041647891,285128.17534021439,350358.35837499338,243840.54089633428,225754.59531312285,194289.3035918879,218480.22894978186,211842.30145124547,null,292593.38566875446]
["LERIDA",null,95753.921107676157,129031.7958057322,153839.05737926802,124416.41443851715,118856.73727254928,141736.9668565247,122822.1487975121,110912.91218766535,93219.523017384781,115530.35810475178,96864.779306328681,107063.17365992985,303807.04447162373,288280.46081055631,322805.12122570566,275535.19231555151,284030.2207019651,322313.76674812176,291323.10470386257,277705.17561401607,218704.25014516062,259032.22301212774,244537.79229682969,213154.10806358073,null,319458.31107101031]
["LOGROÑO",null,72631.467104926007,72978.00932649833,99719.277589312464,76622.935767855888,91660.281475628508,64436.092335107525,75176.595646396687,57482.969942474105,55505.324458766947,86307.697979982913,82586.08954461258,63417.1915755706,211383.6524301219,211098.39539504648,243271.85693006418,200691.47306033492,208102.32957918517,214137.7673537526,226324.23535776636,183441.75825170445,159666.21199904819,201034.15085884475,180769.78967685549,156071.91850579603,null,232310.97910016612]
["LUGO",null,70613.51147029952,70837.695496466273,67701.578550866441,64525.123010841184,73431.322843802132,65434.738515421261,73913.290872881131,63029.619916534466,51361.655734598804,57236.415272391176,65546.887866430625,67524.383136375545,208663.88413261375,193907.51645165487,224343.85416220533,191499.03754857907,217306.20155811435,236440.4061955612,235656.86389376366,216203.81126160096,173770.79722596041,132544.27280000562,147426.97719375911,146437.40969170383,null,190307.68627519734]
["MADRID",null,2038367.0838115818,2209245.7313817875,3149811.8964653765,2729304.4049382075,2569406.4048570911,3398922.0515401359,3196725.1705817683,2009575.6556588972,1997965.2217116191,1988882.3037227236,1870781.0496679817,1920522.7342647885,5548689.3296217779,5150985.9236529889,6275840.9962988542,5536076.600325861,5227534.8320508627,6606522.3532594796,6395015.174154968,4192190.9303771704,3993314.6765227499,3835950.0321594742,3662932.0870675175,3723165.867090513,null,5780186.087655494]
["MALAGA",null,485948.84826988028,590610.18204614474,840089.01496407902,662032.59289113584,668259.5625177935,651301.05543472082,664385.75754180446,533720.72654866625,544694.02491199505,634750.8841929388,622244.73148280091,598282.74019469623,1533984.6577071338,1572221.8049054439,2119808.6630128124,1676378.4084077969,1760230.9943244527,1941617.7541371747,1914889.5728365367,1546311.4546559022,1515657.0654426396,1486210.7643304847,1530635.716949224,1372505.3845353602,null,1855278.3558704359]
["MURCIA",null,559409.65527196438,474442.88797465083,605211.43689367035,449575.37092360033,526767.80066102778,585739.48610514973,546096.37293167424,413773.18883595936,328366.93988994649,541048.72380846704,549870.79107159597,588893.27359583217,1510445.9487167492,1278618.6099681505,1455572.2458620549,1234336.8387145973,1916518.4698498528,1521006.7658337811,2067420.9398177732,1085608.2885967342,935293.58534565032,1064691.7142409738,1093380.2140124836,1088872.5634130649,null,1679812.7884758953]
["NAVARRA",null,122709.98281569564,123660.08379557444,178595.03762068364,123381.79414609514,115155.73743625698,141338.80053817315,96515.174828383417,109028.17073428399,95584.276638270298,144128.21933934456,123506.6276924211,108098.17763210754,438054.32330936432,438391.99696660286,574128.1703900143,415351.26783070771,443272.68695701304,484416.57233505655,372264.59577344655,395567.47421503649,323683.90096107585,377294.47727860563,330792.78205174202,329515.74167414207,null,375733.02466387325]
["ORENSE",null,93993.870558946364,87284.656762653613,126618.22309542324,89099.803734951347,89554.666380542287,103450.09950862479,111074.11030898459,84607.854973945112,72899.921422231506,97658.47731204005,101707.03481684907,110442.0378245178,328678.99726177694,267206.73316452804,284439.93334221875,220731.68200197091,236383.18405434908,290034.67193438672,289141.04097580886,262280.66479066882,204561.35075171862,228133.07178513004,220325.52691694768,246430.45181009945,null,309807.54995340691]
["ASTURIAS",null,184204.82794964089,228166.25213576775,302032.38971889252,248158.82173042916,233605.49232191368,230320.70857929246,240741.53876839386,198230.70551791773,153720.67886887371,240727.81646817148,217130.43150575802,239779.94293870812,644628.30727371702,695497.7879180857,762633.22193157009,638383.07177875575,676300.1983888665,720026.50875786867,748360.5453182261,633113.56474855484,500082.43183710723,561686.18935887655,526147.45873065933,509678.65310123737,null,697638.19091263763]
["PALENCIA",null,29661.049092366939,26593.78505620101,28307.052049230955,30615.812741198217,30455.594127849196,34953.450403722738,29917.449731826746,27794.922668585055,19462.003131268684,28810.381203977071,37157.464433780158,36481.562309108813,124562.6514679286,74174.644818782588,92727.916800373816,75461.75393967834,75266.528967076418,106595.03180841549,86259.086925013544,88898.737473688161,64510.369971085245,81078.675056461696,89904.422469416793,76765.283880197094,null,102449.40794686603]
["GRAN CANARIA",null,277238.51318843733,292072.73931685399,411779.84141081496,340640.44607226085,372371.2569774951,353666.61262098746,345750.28176914656,302925.08130951214,291580.57427946909,351526.99928206601,322085.37669755658,296942.74405067024,1281561.899652625,1175132.8084864633,1461619.3140270899,1014677.9959740869,1156825.780430322,1090787.7638688954,1733583.7556190831,3530602.598944026,984764.00706112513,991497.71812645486,957757.75606286863,767140.5998235771,null,970555.12003029278]
["PONTEVEDRA",null,217300.47775184637,257559.93996225621,327192.00136272726,243266.16504490588,234347.16476302533,247808.56751754909,270883.5054860966,225168.16267243869,196424.84442365263,256592.62593890747,249664.84562133378,273349.71382928046,637385.9620437806,675333.11153264227,732767.88781828189,621712.18096746202,737703.28527772124,683498.54164066305,752174.6575296981,688959.5376166529,546449.82683855284,579090.89596427791,545119.36400048272,601285.04301799822,null,779607.18538952176]
["SALAMANCA",null,85447.212538615611,81296.003346026788,111919.97979223692,73632.776244931767,81571.654351634526,87754.699734476351,86326.080590017169,79031.474555200009,68718.750978221622,77372.275259244823,74314.648905538328,90122.523806709767,199146.02906695896,196314.42535191157,220981.58289764338,186307.26102834189,192896.07779691153,211887.89007888504,233001.80229870643,194610.96547110405,165103.56710772822,184339.72227962009,172585.99566687434,192495.68778706924,null,241809.44797149292]
["TENERIFE",null,207854.26176992702,222292.05179044316,293383.51730566984,255426.96392284916,267936.10792343644,264721.8378410273,260604.31818458231,234779.12775613819,212282.33530753772,298440.4199435992,266924.39056541224,230372.03886387096,883706.95694714505,1016500.6608219529,919048.14418044768,712896.16420428047,726544.34847001592,783547.07445646112,957309.70188626077,744098.52327402844,723135.18347304873,691148.91445396375,628210.8618095339,576649.45654436573,null,795736.8493728824]
["CANTABRIA",null,95373.558347651429,137369.73110376552,177892.65380456718,134327.13452045227,129006.05089061304,153643.42248045519,116600.3134311177,111828.05547078358,81824.591915247685,118827.08743255728,110635.10562200446,119181.75903790207,300252.86091521749,325482.10347903305,361825.16688558966,319399.23183258786,303009.3250774488,348939.40833173099,317148.39751098678,303858.27643977973,207284.15570118706,277861.72998596402,229240.38640940704,239033.52441938844,null,348643.95209246379]
["SEGOVIA",null,33328.53260127885,40173.155788936718,54021.644087424167,38328.127842204813,45453.822214073072,44572.319827686864,41778.120193678231,47081.52673070303,31076.190356208044,37487.425114506848,35727.478328989077,45307.924711803942,105639.8357905649,118083.56421136223,145505.53373459587,97851.667275196305,121199.07509826498,130346.16734110296,128387.43062760677,130257.16923754671,100608.18258677227,119841.28784675851,110342.60437934111,117487.19217574919,null,118522.82815529985]
["SEVILLA",null,638215.04369177308,638875.00222127268,879441.76491405722,632815.41383065295,706623.95220573316,775597.03112450149,802118.77753091766,613692.54928609659,504836.22599741811,777515.01123053208,792752.83660123381,741271.75067380688,1701743.1750629959,1793416.592690083,2061321.6272264887,1544744.8923617124,1780267.0450892237,1950327.9478804085,2060319.1666994242,1614397.9337613555,1435471.8847956795,1574395.1669450742,1675253.4924327617,1532844.3881889957,null,2311539.5985055729]
["SORIA",null,20347.429689716242,14452.590151443332,30017.852701153741,30425.494406897957,26133.329066684604,20914.403873089512,21797.741363919871,16062.476827036904,15449.415281237334,16039.724536920598,18433.730012007127,21904.268390757235,70088.475209358716,50782.4916624615,90451.635596314052,77928.366750403133,70853.651707235025,84596.335238057552,70684.77225731338,67217.981288703304,54241.641143489083,48884.339301165433,52889.219807298636,66038.529055514344,null,56377.722939684958]
["TARRAGONA",null,242180.75931021493,273428.18470719852,341799.42254329805,276994.20509313891,284657.75764318154,281655.52085613791,253955.99873338186,216782.5380488364,184366.27810391638,259988.38672270192,228691.94785736865,215057.42342248463,661838.58960468683,659933.00180935219,719316.49253913946,573833.21630770736,636565.75279534992,729156.82255441707,634625.71866423369,543710.47268845607,469864.92485145765,541457.66412873613,492254.87316361739,465722.04454222537,null,703737.75800255523]
["TERUEL",null,40565.079328321452,55303.493241876698,56084.512587888094,52923.669441768689,50715.195095905234,56501.746880640392,51831.67489734327,44709.644175932728,33580.161955379983,43296.066627298613,41299.409587286129,53840.711861460659,154377.23826698257,160302.40839123711,162036.47706764241,138995.23296560778,148449.60113743893,164768.006300829,161853.23427868731,169022.68470831533,106374.72923556701,132047.69160129179,115433.67213867453,143135.1198478585,null,138436.18807604542]
["TOLEDO",null,222946.79864976017,224690.21932926471,301068.26914552128,247464.37250579899,243389.66336839099,270677.730690923,269477.32821300678,193466.38392270391,193328.91983210732,266095.46786677779,274178.66177350102,295578.19541812211,769354.46638320456,792125.08925437718,939941.50995686394,810420.59939641377,796756.68355527183,829742.05983910093,879146.80663493322,715649.43676654354,634560.83198919601,766236.17608840927,763302.5442198466,800061.91282755497,null,835852.32505840098]
["VALENCIA",null,743953.34643915226,818130.92767147673,916233.76651618502,784117.74255232129,834943.94415992929,847945.66328349046,937131.6142924421,645008.71258066222,616233.02115047327,899029.68696362549,836673.67756796803,891630.51901104255,2061805.3170776046,2126568.5585989146,2239524.5753897545,1898545.3701354254,2869257.9406523118,2404308.2741540857,37487485.165509194,1794187.1791654136,1801831.6571607604,1945424.5822129976,1844514.8229054622,1916565.9904705174,null,2627333.8835426359]
["VALLADOLID",null,127624.47110409828,120126.37536121139,160310.07625416541,140369.75615604056,149849.14975575576,134315.84995731185,151637.17854232865,108033.18287675374,95325.159896724042,160442.33519699812,136717.59921865337,158300.37493498495,531241.90699665505,400869.13089863985,418968.70692698262,349511.00316663721,389982.64295483474,405127.47279025626,437304.61895536084,331871.35030220315,287196.01825330814,358601.6324248765,351305.69758422818,343030.22054420668,null,455460.30935063644]
["VIZCAYA",null,163522.8848282636,184772.10530683774,309084.23869778874,191717.46656884908,215771.47354767792,194462.36983113943,235512.25891821092,136037.50153327981,114331.65959136725,172352.50595822511,185402.80160565843,198270.690877855,559528.9965396109,611597.75894261291,823155.38933549484,574096.60308822349,698940.7072177626,741711.72387595684,697623.19074373925,465508.29988287744,403660.14514491078,410920.18364451791,437943.1716421576,458063.92168459971,null,556025.99844173854]
["ZAMORA",null,38333.347392451244,39777.915313537189,64703.098657767514,40534.518663821073,44072.920543950575,42881.323665606062,57485.291852055459,34118.473507768802,29218.828067055412,43687.044527546197,44837.202592520749,43834.025184679485,114694.1682658761,183218.31706390125,128238.4519013883,119905.66723587632,111626.42034902128,127688.71001905893,135898.457014949,111962.10932096947,92916.372573648157,96045.595821283947,103740.90438262151,110889.3162198066,null,132358.27230474644]
["ZARAGOZA",null,151754.54943516204,175413.61163429113,218717.09261565164,174796.95515191171,185506.23883985358,182229.62792163802,196633.41968299658,134613.84015407728,124015.48822540934,190773.58381709357,191262.58496529239,202286.04009662993,534462.18097610516,580670.86921931244,606547.4668267275,515707.16740168858,553328.00564621866,590325.9392395597,625136.71236044145,466353.6932620008,433805.03200847947,472104.00400706433,460144.04734215664,468438.46657527628,null,584322.20887901587]
["CEUTA",null,29632.709449500679,28641.272258005811,35276.711134894576,29192.475169056535,29583.47045900629,40670.840283992802,43671.023655387231,30283.043579922683,25088.543926130256,25985.107576237016,17867.6230397816,21382.593627195645,99304.234703604379,94850.07336161744,126131.30639912527,96584.875657823577,118176.52395553779,122980.07743073894,127874.52241410621,89807.202600489793,88246.427841952594,81027.454623683429,65500.473581494072,80410.283517528078,null,65235.324243214258]
["MELILLA",null,67506.972606878015,71903.26751196479,87095.650007559772,67939.752005479953,59532.44541708762,52404.876474747267,52231.152801038115,45763.466063504304,40230.13852012343,54593.725222722918,66678.543137474815,50793.728771038535,179567.19532481875,175463.93017965159,208496.14822856439,152183.59224014208,152715.11831511324,152480.25077196187,150050.51458959578,124835.19286442707,116511.03559314208,131251.12066897569,143632.3550145897,126766.15948106698,null,172065.99713123628]
[]
["TOTAL",null,{"$f":"SUM(C5:C56)","v":12295851.933066934},{"$f":"SUM(D5:D56)","v":13178709.586384961},17439103.838967964,14062774.968559917,14213674.740484202,15467088.908124907,15393831.719697725,11204979.43150034,10103660.416087838,13497766.890001405,12904188.308587214,13388029.670765921,36793783.071793683,37146288.898700617,46892354.148685373,35615102.730844982,39205224.610432863,42122739.61003983,77494912.872658208,33252577.507409703,27491471.767418426,29818258.733402573,28963324.528397288,28733402.222612239,null,39789984.869354539]

{"sheet":"datos_mapa","index":3,"n_rows":54,"n_cols":11,"rows_kept":54,"cut":false,"hidden":false,"merged":[[0,2,0,5],[0,7,0,10]]}
[null,null,"DATOS",null,null,null,null,"RANKING"]
["ID","PROVINCIA","Dato 1","Dato 2","Dato 3","Dato 4",null,{"$f":"C2","v":"Dato 1"},"Dato 2","Dato 3","Dato 4"]
["01","ALAVA",39,8.1556241982649325E-2,8.1556241982649325E-2,-0.91844375801735068,null,{"$f":"RANK(C3,C$3:C$54,0)","v":15},{"$f":"53 - RANK(D3,D$3:D$54,1)","v":42},{"$f":"RANK(E3,$E$3:$E$54,1)","v":11},{"$f":"RANK(F3,F$3:F$54,1)","v":1}]
["02","ALBACETE",45,2.4960477131076297E-3,2.4960477131076297E-3,-3.8699999999999998E-2,null,{"$f":"RANK(C4,C$3:C$54,0)","v":11},{"$f":"53 - RANK(D4,D$3:D$54,1)","v":52},{"$f":"RANK(E4,$E$3:$E$54,1)","v":1},{"$f":"RANK(F4,F$3:F$54,1)","v":27}]
["03","ALICANTE",21,0.3841644416768949,0.3841644416768949,6.3399999999999998E-2,null,36,29,24,42]
["04","ALMERIA",31,6.7956004754548993E-2,6.7956004754548993E-2,-7.4099999999999999E-2,null,29,43,10,13]
["33","ASTURIAS",48,0.56075286864655161,0.56075286864655161,3.3099999999999997E-2,null,4,23,30,39]
["05","AVILA",20,0.35199057233188003,0.35199057233188003,-3.1699999999999999E-2,null,37,30,23,28]
["06","BADAJOZ",7,5.1031840133325623E-2,5.1031840133325623E-2,-4.8000000000000001E-2,null,47,46,7,23]
["08","BARCELONA",48,0.90171479354359085,0.90171479354359085,8.2000000000000007E-3,null,4,5,48,34]
["09","BURGOS",2,0.83912525290939965,0.83912525290939965,9.4299999999999995E-2,null,52,9,44,47]
["10","CACERES",8,1.3004832658766174E-2,1.3004832658766174E-2,-9.4500000000000001E-2,null,46,51,2,10]
["11","CADIZ",34,0.89351898341427949,0.89351898341427949,-0.2198,null,24,7,46,4]
["39","CANTABRIA",28,0.69599023242950997,0.69599023242950997,-7.1499999999999994E-2,null,33,17,36,16]
["12","CASTELLON",48,0.24551580447323229,0.24551580447323229,1.54E-2,null,4,34,19,36]
["13","CIUDAD REAL",34,0.80705826085239374,0.80705826085239374,-5.4999999999999997E-3,null,24,11,42,32]
["14","CORDOBA",18,3.5336733548239962E-2,3.5336733548239962E-2,-7.4099999999999999E-2,null,40,49,4,13]
["15","LA CORUÑA",38,0.59685383916178525,0.59685383916178525,1.5100000000000001E-2,null,18,20,33,35]
["16","CUENCA",19,0.70980174062858659,0.70980174062858659,-0.108,null,38,16,37,6]
["17","GERONA",50,0.92901272581771521,0.92901272581771521,-5.21E-2,null,1,2,51,21]
["18","GRANADA",6,0.62329097707727821,0.62329097707727821,-7.4099999999999999E-2,null,49,19,34,13]
["19","GUADALAJARA",3,0.1524723644031567,0.1524723644031567,-5.62E-2,null,51,39,14,18]
["20","GUIPUZCOA",18,5.8794874420701748E-2,5.8794874420701748E-2,-1.37E-2,null,40,45,8,31]
["21","HUELVA",48,0.23022251050153653,0.23022251050153653,-0.14319999999999999,null,4,35,18,5]
["22","HUESCA",45,0.89930733710432698,0.89930733710432698,9.4500000000000001E-2,null,11,6,47,48]
["07","BALEARES",30,0.90180368710104553,0.90180368710104553,7.3099999999999998E-2,null,30,4,49,44]
["23","JAEN",39,3.5768978671523843E-2,3.5768978671523843E-2,-0.10290000000000001,null,15,48,5,7]
["24","LEON",34,0.86078523158699627,0.86078523158699627,5.21E-2,null,24,8,45,41]
["25","LERIDA",30,0.17835206409027893,0.17835206409027893,-4.8899999999999999E-2,null,30,38,15,22]
["27","LUGO",36,0.72996290862667412,0.72996290862667412,0.1246,null,23,15,38,50]
["28","MADRID",19,0.3441949407167274,0.3441949407167274,2.8999999999999998E-3,null,38,31,22,33]
["29","MALAGA",37,0.40441551727178371,0.40441551727178371,-0.10290000000000001,null,22,26,27,7]
["30","MURCIA",13,0.68264368968105038,0.68264368968105038,-5.3800000000000001E-2,null,42,18,35,20]
["31","NAVARRA",38,0.77206474091626265,0.77206474091626265,9.9599999999999994E-2,null,18,12,41,49]
["32","ORENSE",46,0.26405953064666954,0.26405953064666954,2.1299999999999999E-2,null,9,33,20,37]
["34","PALENCIA",47,4.1001448416040476E-2,4.1001448416040476E-2,8.2699999999999996E-2,null,8,47,6,45]
["35","GRAN CANARIA",38,0.40350224851691663,0.40350224851691663,-4.3700000000000003E-2,null,18,27,26,25]
["36","PONTEVEDRA",45,0.21128611888624549,0.21128611888624549,9.1899999999999996E-2,null,11,36,17,46]
["26","LOGROÑO",33,0.54937546538115534,0.54937546538115534,6.6600000000000006E-2,null,27,24,29,43]
["37","SALAMANCA",9,0.57779382267020396,0.57779382267020396,-0.04,null,45,22,31,26]
["40","SEGOVIA",11,0.1506014656670257,0.1506014656670257,-2.0799999999999999E-2,null,44,40,13,30]
["41","SEVILLA",50,0.18887273774225743,0.18887273774225743,-9.5100000000000004E-2,null,1,37,16,9]
["42","SORIA",39,0.14504105119022592,0.14504105119022592,-4.5400000000000003E-2,null,15,41,12,24]
["43","TARRAGONA",46,0.40112960282830024,0.40112960282830024,-2.4199999999999999E-2,null,9,28,25,29]
["38","TENERIFE",13,3.4669676468787602E-2,3.4669676468787602E-2,-9.3899999999999997E-2,null,42,50,3,11]
["44","TERUEL",49,0.42572786984177291,0.42572786984177291,-5.4199999999999998E-2,null,3,25,28,19]
["45","TOLEDO",38,6.3887685756916834E-2,6.3887685756916834E-2,-8.6300000000000002E-2,null,18,44,9,12]
["46","VALENCIA",24,0.7436502211467898,0.7436502211467898,-6.5199999999999994E-2,null,35,14,39,17]
["47","VALLADOLID",29,0.91820063355989567,0.91820063355989567,2.63E-2,null,32,3,50,38]
["48","VIZCAYA",45,0.9538286940038796,0.9538286940038796,0.15909999999999999,null,11,1,52,52]
["49","ZAMORA",7,0.28316530398246065,0.28316530398246065,3.9600000000000003E-2,null,47,32,21,40]
["50","ZARAGOZA",33,0.74866287428905232,0.74866287428905232,0.13750000000000001,null,27,13,40,51]
["51","CEUTA",4,0.59352248717959266,0.59352248717959266,-0.2727,null,50,21,32,2]
["52","MELILLA",28,0.82367840840686246,0.82367840840686246,-0.2727,null,33,10,43,2]

{"sheet":"mapa","index":4,"n_rows":55,"n_cols":23,"rows_kept":55,"cut":false,"hidden":false,"merged":[[26,25,27,26],[3,23,4,24],[3,25,4,26],[13,23,14,24],[13,25,14,26],[16,23,17,24],[16,25,17,26],[3,20,4,20],[13,20,14,20],[16,20,17,20],[26,20,27,20],[26,23,27,24]]}
[]
[null,null,null,null,null,null,null,null,null,null,null,null,null,null,null,null,"COLORES"]
[null,null,null,null,null,null,null,null,null,"Provincia","Shape",{"$f":"+datos_mapa!C2","v":"Dato 1"},{"$f":"+datos_mapa!D2","v":"Dato 2"},{"$f":"+datos_mapa!E2","v":"Dato 3"},{"$f":"+datos_mapa!F2","v":"Dato 4"},null,{"$f":"+datos_mapa!H2","v":"Dato 1"},{"$f":"+datos_mapa!I2","v":"Dato 2"},{"$f":"+datos_mapa!J2","v":"Dato 3"},{"$f":"+datos_mapa!K2","v":"Dato 4"},null,"Número ranking","color"]
[null,null,null,null,null,null,null,null,null,"Álava","alava",{"$f":"+datos_mapa!C3","v":39},{"$f":"TEXT(datos_mapa!D3,\"0,0%\")","v":"8,2%"},{"$f":"TEXT(datos_mapa!E3,\"0,0%\")","v":"8,2%"},{"$f":"TEXT(datos_mapa!F3,\"0,0%\")","v":"-91,8%"},null,{"$f":"VLOOKUP(datos_mapa!H3,mapa!$V$4:$W$55,2,0)","v":8378040},{"$f":"+VLOOKUP(datos_mapa!I3,mapa!$V$4:$W$55,2,0)","v":7707899},{"$f":"VLOOKUP(datos_mapa!J3,mapa!$V$4:$W$55,2,0)","v":8310688},{"$f":"VLOOKUP(datos_mapa!K3,mapa!$V$4:$W$55,2,0)","v":8109667},null,1,8109667]
[null,null,null,null,null,null,null,null,null,"Albacete","albacete",{"$f":"+datos_mapa!C4","v":45},{"$f":"TEXT(datos_mapa!D4,\"0,0%\")","v":"0,2%"},{"$f":"TEXT(datos_mapa!E4,\"0,0%\")","v":"0,2%"},{"$f":"TEXT(datos_mapa!F4,\"0,0%\")","v":"-3,9%"},null,{"$f":"VLOOKUP(datos_mapa!H4,mapa!$V$4:$W$55,2,0)","v":8310688},{"$f":"+VLOOKUP(datos_mapa!I4,mapa!$V$4:$W$55,2,0)","v":7039480},{"$f":"VLOOKUP(datos_mapa!J4,mapa!$V$4:$W$55,2,0)","v":8109667},{"$f":"VLOOKUP(datos_mapa!K4,mapa!$V$4:$W$55,2,0)","v":8710655},null,2,8109929]
[null,null,null,null,null,null,null,null,null,"Alicante","alicante",{"$f":"+datos_mapa!C5","v":21},{"$f":"TEXT(datos_mapa!D5,\"0,0%\")","v":"38,4%"},{"$f":"TEXT(datos_mapa!E5,\"0,0%\")","v":"38,4%"},{"$f":"TEXT(datos_mapa!F5,\"0,0%\")","v":"6,3%"},null,{"$f":"VLOOKUP(datos_mapa!H5,mapa!$V$4:$W$55,2,0)","v":8109053},{"$f":"+VLOOKUP(datos_mapa!I5,mapa!$V$4:$W$55,2,0)","v":8577023},{"$f":"VLOOKUP(datos_mapa!J5,mapa!$V$4:$W$55,2,0)","v":8644335},{"$f":"VLOOKUP(datos_mapa!K5,mapa!$V$4:$W$55,2,0)","v":7707899},null,3,8110447]
[null,null,null,null,null,null,null,null,null,"Almería","almeria",{"$f":"+datos_mapa!C6","v":31},{"$f":"TEXT(datos_mapa!D6,\"0,0%\")","v":"6,8%"},{"$f":"TEXT(datos_mapa!E6,\"0,0%\")","v":"6,8%"},{"$f":"TEXT(datos_mapa!F6,\"0,0%\")","v":"-7,4%"},null,{"$f":"VLOOKUP(datos_mapa!H6,mapa!$V$4:$W$55,2,0)","v":8577023},{"$f":"+VLOOKUP(datos_mapa!I6,mapa!$V$4:$W$55,2,0)","v":7641083},{"$f":"VLOOKUP(datos_mapa!J6,mapa!$V$4:$W$55,2,0)","v":8310170},{"$f":"VLOOKUP(datos_mapa!K6,mapa!$V$4:$W$55,2,0)","v":8377260},null,4,8176501]
[null,null,null,null,null,null,null,null,null,"Asturias","asturias",{"$f":"+datos_mapa!C7","v":48},{"$f":"TEXT(datos_mapa!D7,\"0,0%\")","v":"56,1%"},{"$f":"TEXT(datos_mapa!E7,\"0,0%\")","v":"56,1%"},{"$f":"TEXT(datos_mapa!F7,\"0,0%\")","v":"3,3%"},null,{"$f":"VLOOKUP(datos_mapa!H7,mapa!$V$4:$W$55,2,0)","v":8176501},{"$f":"+VLOOKUP(datos_mapa!I7,mapa!$V$4:$W$55,2,0)","v":8578281},{"$f":"VLOOKUP(datos_mapa!J7,mapa!$V$4:$W$55,2,0)","v":8510207},{"$f":"VLOOKUP(datos_mapa!K7,mapa!$V$4:$W$55,2,0)","v":7908604},null,5,8177019]
[null,null,null,null,null,null,null,null,null,"Ávila","avila",{"$f":"+datos_mapa!C8","v":20},{"$f":"TEXT(datos_mapa!D8,\"0,0%\")","v":"35,2%"},{"$f":"TEXT(datos_mapa!E8,\"0,0%\")","v":"35,2%"},{"$f":"TEXT(datos_mapa!F8,\"0,0%\")","v":"-3,2%"},null,{"$f":"VLOOKUP(datos_mapa!H8,mapa!$V$4:$W$55,2,0)","v":8042237},{"$f":"+VLOOKUP(datos_mapa!I8,mapa!$V$4:$W$55,2,0)","v":8510207},{"$f":"VLOOKUP(datos_mapa!J8,mapa!$V$4:$W$55,2,0)","v":8578281},{"$f":"VLOOKUP(datos_mapa!K8,mapa!$V$4:$W$55,2,0)","v":8643839},null,6,8177281]
[null,null,null,null,null,null,null,null,null,"Badajoz","badajoz",{"$f":"+datos_mapa!C9","v":7},{"$f":"TEXT(datos_mapa!D9,\"0,0%\")","v":"5,1%"},{"$f":"TEXT(datos_mapa!E9,\"0,0%\")","v":"5,1%"},{"$f":"TEXT(datos_mapa!F9,\"0,0%\")","v":"-4,8%"},null,{"$f":"VLOOKUP(datos_mapa!H9,mapa!$V$4:$W$55,2,0)","v":7373818},{"$f":"+VLOOKUP(datos_mapa!I9,mapa!$V$4:$W$55,2,0)","v":7440634},{"$f":"VLOOKUP(datos_mapa!J9,mapa!$V$4:$W$55,2,0)","v":8243335},{"$f":"VLOOKUP(datos_mapa!K9,mapa!$V$4:$W$55,2,0)","v":8578281},null,7,8243335]
[null,null,null,null,null,null,null,null,null,"Barcelona","barcelona",{"$f":"+datos_mapa!C10","v":48},{"$f":"TEXT(datos_mapa!D10,\"0,0%\")","v":"90,2%"},{"$f":"TEXT(datos_mapa!E10,\"0,0%\")","v":"90,2%"},{"$f":"TEXT(datos_mapa!F10,\"0,0%\")","v":"0,8%"},null,{"$f":"VLOOKUP(datos_mapa!H10,mapa!$V$4:$W$55,2,0)","v":8176501},{"$f":"+VLOOKUP(datos_mapa!I10,mapa!$V$4:$W$55,2,0)","v":8177019},{"$f":"VLOOKUP(datos_mapa!J10,mapa!$V$4:$W$55,2,0)","v":7307002},{"$f":"VLOOKUP(datos_mapa!K10,mapa!$V$4:$W$55,2,0)","v":8242685},null,8,8243853]
[null,null,null,null,null,null,null,null,null,"Burgos","burgos",{"$f":"+datos_mapa!C11","v":2},{"$f":"TEXT(datos_mapa!D11,\"0,0%\")","v":"83,9%"},{"$f":"TEXT(datos_mapa!E11,\"0,0%\")","v":"83,9%"},{"$f":"TEXT(datos_mapa!F11,\"0,0%\")","v":"9,4%"},null,{"$f":"VLOOKUP(datos_mapa!H11,mapa!$V$4:$W$55,2,0)","v":7039480},{"$f":"+VLOOKUP(datos_mapa!I11,mapa!$V$4:$W$55,2,0)","v":8244371},{"$f":"VLOOKUP(datos_mapa!J11,mapa!$V$4:$W$55,2,0)","v":7574267},{"$f":"VLOOKUP(datos_mapa!K11,mapa!$V$4:$W$55,2,0)","v":7373818},null,9,8244371]
[null,null,null,null,null,null,null,null,null,"Cáceres","caceres",{"$f":"+datos_mapa!C12","v":8},{"$f":"TEXT(datos_mapa!D12,\"0,0%\")","v":"1,3%"},{"$f":"TEXT(datos_mapa!E12,\"0,0%\")","v":"1,3%"},{"$f":"TEXT(datos_mapa!F12,\"0,0%\")","v":"-9,5%"},null,{"$f":"VLOOKUP(datos_mapa!H12,mapa!$V$4:$W$55,2,0)","v":7440634},{"$f":"+VLOOKUP(datos_mapa!I12,mapa!$V$4:$W$55,2,0)","v":7106553},{"$f":"VLOOKUP(datos_mapa!J12,mapa!$V$4:$W$55,2,0)","v":8109929},{"$f":"VLOOKUP(datos_mapa!K12,mapa!$V$4:$W$55,2,0)","v":8310170},null,10,8310170]
[null,null,null,null,null,null,null,null,null,"Cádiz","cadiz",{"$f":"+datos_mapa!C13","v":34},{"$f":"TEXT(datos_mapa!D13,\"0,0%\")","v":"89,4%"},{"$f":"TEXT(datos_mapa!E13,\"0,0%\")","v":"89,4%"},{"$f":"TEXT(datos_mapa!F13,\"0,0%\")","v":"-22,0%"},null,{"$f":"VLOOKUP(datos_mapa!H13,mapa!$V$4:$W$55,2,0)","v":8644335},{"$f":"+VLOOKUP(datos_mapa!I13,mapa!$V$4:$W$55,2,0)","v":8243335},{"$f":"VLOOKUP(datos_mapa!J13,mapa!$V$4:$W$55,2,0)","v":7440634},{"$f":"VLOOKUP(datos_mapa!K13,mapa!$V$4:$W$55,2,0)","v":8176501},null,11,8310688]
[null,null,null,null,null,null,null,null," ","Cantabria","cantabria",{"$f":"+datos_mapa!C14","v":28},{"$f":"TEXT(datos_mapa!D14,\"0,0%\")","v":"69,6%"},{"$f":"TEXT(datos_mapa!E14,\"0,0%\")","v":"69,6%"},{"$f":"TEXT(datos_mapa!F14,\"0,0%\")","v":"-7,2%"},null,{"$f":"VLOOKUP(datos_mapa!H14,mapa!$V$4:$W$55,2,0)","v":8309502},{"$f":"+VLOOKUP(datos_mapa!I14,mapa!$V$4:$W$55,2,0)","v":8444612},{"$f":"VLOOKUP(datos_mapa!J14,mapa!$V$4:$W$55,2,0)","v":8109053},{"$f":"VLOOKUP(datos_mapa!K14,mapa!$V$4:$W$55,2,0)","v":8444094},null,12,8311206]
[null,null,null,null,null,null,null,null,null,"Castellón","castellon",{"$f":"+datos_mapa!C15","v":48},{"$f":"TEXT(datos_mapa!D15,\"0,0%\")","v":"24,6%"},{"$f":"TEXT(datos_mapa!E15,\"0,0%\")","v":"24,6%"},{"$f":"TEXT(datos_mapa!F15,\"0,0%\")","v":"1,5%"},null,{"$f":"VLOOKUP(datos_mapa!H15,mapa!$V$4:$W$55,2,0)","v":8176501},{"$f":"+VLOOKUP(datos_mapa!I15,mapa!$V$4:$W$55,2,0)","v":8242685},{"$f":"VLOOKUP(datos_mapa!J15,mapa!$V$4:$W$55,2,0)","v":8510929},{"$f":"VLOOKUP(datos_mapa!K15,mapa!$V$4:$W$55,2,0)","v":8109053},null,13,8377260]
[null,null,null,null,null,null,null,null,null,"Ciudad Real","c_real",{"$f":"+datos_mapa!C16","v":34},{"$f":"TEXT(datos_mapa!D16,\"0,0%\")","v":"80,7%"},{"$f":"TEXT(datos_mapa!E16,\"0,0%\")","v":"80,7%"},{"$f":"TEXT(datos_mapa!F16,\"0,0%\")","v":"-0,6%"},null,{"$f":"VLOOKUP(datos_mapa!H16,mapa!$V$4:$W$55,2,0)","v":8644335},{"$f":"+VLOOKUP(datos_mapa!I16,mapa!$V$4:$W$55,2,0)","v":8310688},{"$f":"VLOOKUP(datos_mapa!J16,mapa!$V$4:$W$55,2,0)","v":7707899},{"$f":"VLOOKUP(datos_mapa!K16,mapa!$V$4:$W$55,2,0)","v":8376318},null,14,8377522]
[null,null,null,null,null,null,null,null,null,"Córdoba","cordoba",{"$f":"+datos_mapa!C17","v":18},{"$f":"TEXT(datos_mapa!D17,\"0,0%\")","v":"3,5%"},{"$f":"TEXT(datos_mapa!E17,\"0,0%\")","v":"3,5%"},{"$f":"TEXT(datos_mapa!F17,\"0,0%\")","v":"-7,4%"},null,{"$f":"VLOOKUP(datos_mapa!H17,mapa!$V$4:$W$55,2,0)","v":7841788},{"$f":"+VLOOKUP(datos_mapa!I17,mapa!$V$4:$W$55,2,0)","v":7240185},{"$f":"VLOOKUP(datos_mapa!J17,mapa!$V$4:$W$55,2,0)","v":8176501},{"$f":"VLOOKUP(datos_mapa!K17,mapa!$V$4:$W$55,2,0)","v":8377260},null,15,8378040]
[null,null,null,null,null,null,null,null,null,"La Coruña","la_coruna",{"$f":"+datos_mapa!C18","v":38},{"$f":"TEXT(datos_mapa!D18,\"0,0%\")","v":"59,7%"},{"$f":"TEXT(datos_mapa!E18,\"0,0%\")","v":"59,7%"},{"$f":"TEXT(datos_mapa!F18,\"0,0%\")","v":"1,5%"},null,{"$f":"VLOOKUP(datos_mapa!H18,mapa!$V$4:$W$55,2,0)","v":8510667},{"$f":"+VLOOKUP(datos_mapa!I18,mapa!$V$4:$W$55,2,0)","v":8511447},{"$f":"VLOOKUP(datos_mapa!J18,mapa!$V$4:$W$55,2,0)","v":8309502},{"$f":"VLOOKUP(datos_mapa!K18,mapa!$V$4:$W$55,2,0)","v":8175869},null,16,8444094]
[null,null,null,null,null,null,null,null,null,"Cuenca","cuenca",{"$f":"+datos_mapa!C19","v":19},{"$f":"TEXT(datos_mapa!D19,\"0,0%\")","v":"71,0%"},{"$f":"TEXT(datos_mapa!E19,\"0,0%\")","v":"71,0%"},{"$f":"TEXT(datos_mapa!F19,\"0,0%\")","v":"-10,8%"},null,{"$f":"VLOOKUP(datos_mapa!H19,mapa!$V$4:$W$55,2,0)","v":7975420},{"$f":"+VLOOKUP(datos_mapa!I19,mapa!$V$4:$W$55,2,0)","v":8444094},{"$f":"VLOOKUP(datos_mapa!J19,mapa!$V$4:$W$55,2,0)","v":8042237},{"$f":"VLOOKUP(datos_mapa!K19,mapa!$V$4:$W$55,2,0)","v":8177281},null,17,8444612]
[null,null,null,null,null,null,null,null,null,"Gerona","gerona",{"$f":"+datos_mapa!C20","v":50},{"$f":"TEXT(datos_mapa!D20,\"0,0%\")","v":"92,9%"},{"$f":"TEXT(datos_mapa!E20,\"0,0%\")","v":"92,9%"},{"$f":"TEXT(datos_mapa!F20,\"0,0%\")","v":"-5,2%"},null,{"$f":"VLOOKUP(datos_mapa!H20,mapa!$V$4:$W$55,2,0)","v":8109667},{"$f":"+VLOOKUP(datos_mapa!I20,mapa!$V$4:$W$55,2,0)","v":8109929},{"$f":"VLOOKUP(datos_mapa!J20,mapa!$V$4:$W$55,2,0)","v":7106553},{"$f":"VLOOKUP(datos_mapa!K20,mapa!$V$4:$W$55,2,0)","v":8577501},null,18,8510667]
[null,null,null,null,null,null,null,null,null,"Granada","granada",{"$f":"+datos_mapa!C21","v":6},{"$f":"TEXT(datos_mapa!D21,\"0,0%\")","v":"62,3%"},{"$f":"TEXT(datos_mapa!E21,\"0,0%\")","v":"62,3%"},{"$f":"TEXT(datos_mapa!F21,\"0,0%\")","v":"-7,4%"},null,{"$f":"VLOOKUP(datos_mapa!H21,mapa!$V$4:$W$55,2,0)","v":7240185},{"$f":"+VLOOKUP(datos_mapa!I21,mapa!$V$4:$W$55,2,0)","v":8510929},{"$f":"VLOOKUP(datos_mapa!J21,mapa!$V$4:$W$55,2,0)","v":8242685},{"$f":"VLOOKUP(datos_mapa!K21,mapa!$V$4:$W$55,2,0)","v":8377260},null,19,8510929]
[null,null,null,null,null,null,null,null,null,"Guadalajara","guadalajara",{"$f":"+datos_mapa!C22","v":3},{"$f":"TEXT(datos_mapa!D22,\"0,0%\")","v":"15,2%"},{"$f":"TEXT(datos_mapa!E22,\"0,0%\")","v":"15,2%"},{"$f":"TEXT(datos_mapa!F22,\"0,0%\")","v":"-5,6%"},null,{"$f":"VLOOKUP(datos_mapa!H22,mapa!$V$4:$W$55,2,0)","v":7106553},{"$f":"+VLOOKUP(datos_mapa!I22,mapa!$V$4:$W$55,2,0)","v":7908604},{"$f":"VLOOKUP(datos_mapa!J22,mapa!$V$4:$W$55,2,0)","v":8377522},{"$f":"VLOOKUP(datos_mapa!K22,mapa!$V$4:$W$55,2,0)","v":8510667},null,20,8511447]
[null,null,null,null,null,null,null,null,null,"Guipúzcoa","guipuzcoa",{"$f":"+datos_mapa!C23","v":18},{"$f":"TEXT(datos_mapa!D23,\"0,0%\")","v":"5,9%"},{"$f":"TEXT(datos_mapa!E23,\"0,0%\")","v":"5,9%"},{"$f":"TEXT(datos_mapa!F23,\"0,0%\")","v":"-1,4%"},null,{"$f":"VLOOKUP(datos_mapa!H23,mapa!$V$4:$W$55,2,0)","v":7841788},{"$f":"+VLOOKUP(datos_mapa!I23,mapa!$V$4:$W$55,2,0)","v":7507450},{"$f":"VLOOKUP(datos_mapa!J23,mapa!$V$4:$W$55,2,0)","v":8243853},{"$f":"VLOOKUP(datos_mapa!K23,mapa!$V$4:$W$55,2,0)","v":8443390},null,21,8577501]
[null,null,null,null,null,null,null,null,null,"Huelva","huelva",{"$f":"+datos_mapa!C24","v":48},{"$f":"TEXT(datos_mapa!D24,\"0,0%\")","v":"23,0%"},{"$f":"TEXT(datos_mapa!E24,\"0,0%\")","v":"23,0%"},{"$f":"TEXT(datos_mapa!F24,\"0,0%\")","v":"-14,3%"},null,{"$f":"VLOOKUP(datos_mapa!H24,mapa!$V$4:$W$55,2,0)","v":8176501},{"$f":"+VLOOKUP(datos_mapa!I24,mapa!$V$4:$W$55,2,0)","v":8175869},{"$f":"VLOOKUP(datos_mapa!J24,mapa!$V$4:$W$55,2,0)","v":8510667},{"$f":"VLOOKUP(datos_mapa!K24,mapa!$V$4:$W$55,2,0)","v":8177019},null,22,8578019]
[null,null,null,null,null,null,null,null,null,"Huesca","huesca",{"$f":"+datos_mapa!C25","v":45},{"$f":"TEXT(datos_mapa!D25,\"0,0%\")","v":"89,9%"},{"$f":"TEXT(datos_mapa!E25,\"0,0%\")","v":"89,9%"},{"$f":"TEXT(datos_mapa!F25,\"0,0%\")","v":"9,5%"},null,{"$f":"VLOOKUP(datos_mapa!H25,mapa!$V$4:$W$55,2,0)","v":8310688},{"$f":"+VLOOKUP(datos_mapa!I25,mapa!$V$4:$W$55,2,0)","v":8177281},{"$f":"VLOOKUP(datos_mapa!J25,mapa!$V$4:$W$55,2,0)","v":7373818},{"$f":"VLOOKUP(datos_mapa!K25,mapa!$V$4:$W$55,2,0)","v":7307002},null,23,8578281]
[null,null,null,null,null,null,null,null,null,"Islas Baleares","baleares",{"$f":"+datos_mapa!C26","v":30},{"$f":"TEXT(datos_mapa!D26,\"0,0%\")","v":"90,2%"},{"$f":"TEXT(datos_mapa!E26,\"0,0%\")","v":"90,2%"},{"$f":"TEXT(datos_mapa!F26,\"0,0%\")","v":"7,3%"},null,{"$f":"VLOOKUP(datos_mapa!H26,mapa!$V$4:$W$55,2,0)","v":8510207},{"$f":"+VLOOKUP(datos_mapa!I26,mapa!$V$4:$W$55,2,0)","v":8176501},{"$f":"VLOOKUP(datos_mapa!J26,mapa!$V$4:$W$55,2,0)","v":7240185},{"$f":"VLOOKUP(datos_mapa!K26,mapa!$V$4:$W$55,2,0)","v":7574267},null,24,8644335]
[null,null,null,null,null,null,null,null,null,"Jaén","jaen",{"$f":"+datos_mapa!C27","v":39},{"$f":"TEXT(datos_mapa!D27,\"0,0%\")","v":"3,6%"},{"$f":"TEXT(datos_mapa!E27,\"0,0%\")","v":"3,6%"},{"$f":"TEXT(datos_mapa!F27,\"0,0%\")","v":"-10,3%"},null,{"$f":"VLOOKUP(datos_mapa!H27,mapa!$V$4:$W$55,2,0)","v":8378040},{"$f":"+VLOOKUP(datos_mapa!I27,mapa!$V$4:$W$55,2,0)","v":7307002},{"$f":"VLOOKUP(datos_mapa!J27,mapa!$V$4:$W$55,2,0)","v":8177019},{"$f":"VLOOKUP(datos_mapa!K27,mapa!$V$4:$W$55,2,0)","v":8243335},null,25,8644853]
[null,null,null,null,null,null,null,null,null,"León","leon",{"$f":"+datos_mapa!C28","v":34},{"$f":"TEXT(datos_mapa!D28,\"0,0%\")","v":"86,1%"},{"$f":"TEXT(datos_mapa!E28,\"0,0%\")","v":"86,1%"},{"$f":"TEXT(datos_mapa!F28,\"0,0%\")","v":"5,2%"},null,{"$f":"VLOOKUP(datos_mapa!H28,mapa!$V$4:$W$55,2,0)","v":8644335},{"$f":"+VLOOKUP(datos_mapa!I28,mapa!$V$4:$W$55,2,0)","v":8243853},{"$f":"VLOOKUP(datos_mapa!J28,mapa!$V$4:$W$55,2,0)","v":7507450},{"$f":"VLOOKUP(datos_mapa!K28,mapa!$V$4:$W$55,2,0)","v":7774972},null,26,8645371]
[null,null,null,null,null,null,null,null,null,"Lérida","lerida",{"$f":"+datos_mapa!C29","v":30},{"$f":"TEXT(datos_mapa!D29,\"0,0%\")","v":"17,8%"},{"$f":"TEXT(datos_mapa!E29,\"0,0%\")","v":"17,8%"},{"$f":"TEXT(datos_mapa!F29,\"0,0%\")","v":"-4,9%"},null,{"$f":"VLOOKUP(datos_mapa!H29,mapa!$V$4:$W$55,2,0)","v":8510207},{"$f":"+VLOOKUP(datos_mapa!I29,mapa!$V$4:$W$55,2,0)","v":7975420},{"$f":"VLOOKUP(datos_mapa!J29,mapa!$V$4:$W$55,2,0)","v":8378040},{"$f":"VLOOKUP(datos_mapa!K29,mapa!$V$4:$W$55,2,0)","v":8578019},null,27,8710655]
[null,null,null,null,null,null,null,null,null,"Lugo","lugo",{"$f":"+datos_mapa!C30","v":36},{"$f":"TEXT(datos_mapa!D30,\"0,0%\")","v":"73,0%"},{"$f":"TEXT(datos_mapa!E30,\"0,0%\")","v":"73,0%"},{"$f":"TEXT(datos_mapa!F30,\"0,0%\")","v":"12,5%"},null,{"$f":"VLOOKUP(datos_mapa!H30,mapa!$V$4:$W$55,2,0)","v":8578281},{"$f":"+VLOOKUP(datos_mapa!I30,mapa!$V$4:$W$55,2,0)","v":8378040},{"$f":"VLOOKUP(datos_mapa!J30,mapa!$V$4:$W$55,2,0)","v":7975420},{"$f":"VLOOKUP(datos_mapa!K30,mapa!$V$4:$W$55,2,0)","v":7173369},null,28,8643839]
[null,null,null,null,null,{"$f":"datos_mapa!C2","v":"Dato 1"},null,null,null,"Madrid","madrid",{"$f":"+datos_mapa!C31","v":19},{"$f":"TEXT(datos_mapa!D31,\"0,0%\")","v":"34,4%"},{"$f":"TEXT(datos_mapa!E31,\"0,0%\")","v":"34,4%"},{"$f":"TEXT(datos_mapa!F31,\"0,0%\")","v":"0,3%"},null,{"$f":"VLOOKUP(datos_mapa!H31,mapa!$V$4:$W$55,2,0)","v":7975420},{"$f":"+VLOOKUP(datos_mapa!I31,mapa!$V$4:$W$55,2,0)","v":8443390},{"$f":"VLOOKUP(datos_mapa!J31,mapa!$V$4:$W$55,2,0)","v":8578019},{"$f":"VLOOKUP(datos_mapa!K31,mapa!$V$4:$W$55,2,0)","v":8309502},null,29,8577023]
[null,null,null,1,null,{"$f":"datos_mapa!D2","v":"Dato 2"},null,null,null,"Málaga","malaga",{"$f":"+datos_mapa!C32","v":37},{"$f":"TEXT(datos_mapa!D32,\"0,0%\")","v":"40,4%"},{"$f":"TEXT(datos_mapa!E32,\"0,0%\")","v":"40,4%"},{"$f":"TEXT(datos_mapa!F32,\"0,0%\")","v":"-10,3%"},null,{"$f":"VLOOKUP(datos_mapa!H32,mapa!$V$4:$W$55,2,0)","v":8578019},{"$f":"+VLOOKUP(datos_mapa!I32,mapa!$V$4:$W$55,2,0)","v":8645371},{"$f":"VLOOKUP(datos_mapa!J32,mapa!$V$4:$W$55,2,0)","v":8710655},{"$f":"VLOOKUP(datos_mapa!K32,mapa!$V$4:$W$55,2,0)","v":8243335},null,30,8510207]
[null,null,null,null,null,{"$f":"datos_mapa!E2","v":"Dato 3"},null,null,null,"Murcia","murcia",{"$f":"+datos_mapa!C33","v":13},{"$f":"TEXT(datos_mapa!D33,\"0,0%\")","v":"68,3%"},{"$f":"TEXT(datos_mapa!E33,\"0,0%\")","v":"68,3%"},{"$f":"TEXT(datos_mapa!F33,\"0,0%\")","v":"-5,4%"},null,{"$f":"VLOOKUP(datos_mapa!H33,mapa!$V$4:$W$55,2,0)","v":7707899},{"$f":"+VLOOKUP(datos_mapa!I33,mapa!$V$4:$W$55,2,0)","v":8510667},{"$f":"VLOOKUP(datos_mapa!J33,mapa!$V$4:$W$55,2,0)","v":8175869},{"$f":"VLOOKUP(datos_mapa!K33,mapa!$V$4:$W$55,2,0)","v":8511447},null,31,8443390]
[null,null,null,null,null,{"$f":"datos_mapa!F2","v":"Dato 4"},null,null,null,"Navarra","navarra",{"$f":"+datos_mapa!C34","v":38},{"$f":"TEXT(datos_mapa!D34,\"0,0%\")","v":"77,2%"},{"$f":"TEXT(datos_mapa!E34,\"0,0%\")","v":"77,2%"},{"$f":"TEXT(datos_mapa!F34,\"0,0%\")","v":"10,0%"},null,{"$f":"VLOOKUP(datos_mapa!H34,mapa!$V$4:$W$55,2,0)","v":8510667},{"$f":"+VLOOKUP(datos_mapa!I34,mapa!$V$4:$W$55,2,0)","v":8311206},{"$f":"VLOOKUP(datos_mapa!J34,mapa!$V$4:$W$55,2,0)","v":7774972},{"$f":"VLOOKUP(datos_mapa!K34,mapa!$V$4:$W$55,2,0)","v":7240185},null,32,8376318]
[null,null,null,null,null,null,null,null,null,"Orense","orense",{"$f":"+datos_mapa!C35","v":46},{"$f":"TEXT(datos_mapa!D35,\"0,0%\")","v":"26,4%"},{"$f":"TEXT(datos_mapa!E35,\"0,0%\")","v":"26,4%"},{"$f":"TEXT(datos_mapa!F35,\"0,0%\")","v":"2,1%"},null,{"$f":"VLOOKUP(datos_mapa!H35,mapa!$V$4:$W$55,2,0)","v":8244371},{"$f":"+VLOOKUP(datos_mapa!I35,mapa!$V$4:$W$55,2,0)","v":8309502},{"$f":"VLOOKUP(datos_mapa!J35,mapa!$V$4:$W$55,2,0)","v":8511447},{"$f":"VLOOKUP(datos_mapa!K35,mapa!$V$4:$W$55,2,0)","v":8042237},null,33,8309502]
[null,null,null,null,null,null,null,null,null,"Palencia","palencia",{"$f":"+datos_mapa!C36","v":47},{"$f":"TEXT(datos_mapa!D36,\"0,0%\")","v":"4,1%"},{"$f":"TEXT(datos_mapa!E36,\"0,0%\")","v":"4,1%"},{"$f":"TEXT(datos_mapa!F36,\"0,0%\")","v":"8,3%"},null,{"$f":"VLOOKUP(datos_mapa!H36,mapa!$V$4:$W$55,2,0)","v":8243853},{"$f":"+VLOOKUP(datos_mapa!I36,mapa!$V$4:$W$55,2,0)","v":7373818},{"$f":"VLOOKUP(datos_mapa!J36,mapa!$V$4:$W$55,2,0)","v":8177281},{"$f":"VLOOKUP(datos_mapa!K36,mapa!$V$4:$W$55,2,0)","v":7507450},null,34,8242685]
[null,null,null,null,null,null,null,null,null,"Las Palmas","las_palmas",{"$f":"+datos_mapa!C37","v":38},{"$f":"TEXT(datos_mapa!D37,\"0,0%\")","v":"40,4%"},{"$f":"TEXT(datos_mapa!E37,\"0,0%\")","v":"40,4%"},{"$f":"TEXT(datos_mapa!F37,\"0,0%\")","v":"-4,4%"},null,{"$f":"VLOOKUP(datos_mapa!H37,mapa!$V$4:$W$55,2,0)","v":8510667},{"$f":"+VLOOKUP(datos_mapa!I37,mapa!$V$4:$W$55,2,0)","v":8710655},{"$f":"VLOOKUP(datos_mapa!J37,mapa!$V$4:$W$55,2,0)","v":8645371},{"$f":"VLOOKUP(datos_mapa!K37,mapa!$V$4:$W$55,2,0)","v":8644853},null,35,8175869]
[null,null,null,null,null,null,null,null,null,"Pontevedra","pontevedra",{"$f":"+datos_mapa!C38","v":45},{"$f":"TEXT(datos_mapa!D38,\"0,0%\")","v":"21,1%"},{"$f":"TEXT(datos_mapa!E38,\"0,0%\")","v":"21,1%"},{"$f":"TEXT(datos_mapa!F38,\"0,0%\")","v":"9,2%"},null,{"$f":"VLOOKUP(datos_mapa!H38,mapa!$V$4:$W$55,2,0)","v":8310688},{"$f":"+VLOOKUP(datos_mapa!I38,mapa!$V$4:$W$55,2,0)","v":8109053},{"$f":"VLOOKUP(datos_mapa!J38,mapa!$V$4:$W$55,2,0)","v":8444612},{"$f":"VLOOKUP(datos_mapa!K38,mapa!$V$4:$W$55,2,0)","v":7440634},null,36,8109053]
[null,null,null,null,null,null,null,null,null,"La Rioja","la_rioja",{"$f":"+datos_mapa!C39","v":33},{"$f":"TEXT(datos_mapa!D39,\"0,0%\")","v":"54,9%"},{"$f":"TEXT(datos_mapa!E39,\"0,0%\")","v":"54,9%"},{"$f":"TEXT(datos_mapa!F39,\"0,0%\")","v":"6,7%"},null,{"$f":"VLOOKUP(datos_mapa!H39,mapa!$V$4:$W$55,2,0)","v":8710655},{"$f":"+VLOOKUP(datos_mapa!I39,mapa!$V$4:$W$55,2,0)","v":8644335},{"$f":"VLOOKUP(datos_mapa!J39,mapa!$V$4:$W$55,2,0)","v":8577023},{"$f":"VLOOKUP(datos_mapa!K39,mapa!$V$4:$W$55,2,0)","v":7641083},null,37,8042237]
[null,null,null,null,null,null,null,null,null,"Salamanca","salamanca",{"$f":"+datos_mapa!C40","v":9},{"$f":"TEXT(datos_mapa!D40,\"0,0%\")","v":"57,8%"},{"$f":"TEXT(datos_mapa!E40,\"0,0%\")","v":"57,8%"},{"$f":"TEXT(datos_mapa!F40,\"0,0%\")","v":"-4,0%"},null,{"$f":"VLOOKUP(datos_mapa!H40,mapa!$V$4:$W$55,2,0)","v":7507450},{"$f":"+VLOOKUP(datos_mapa!I40,mapa!$V$4:$W$55,2,0)","v":8578019},{"$f":"VLOOKUP(datos_mapa!J40,mapa!$V$4:$W$55,2,0)","v":8443390},{"$f":"VLOOKUP(datos_mapa!K40,mapa!$V$4:$W$55,2,0)","v":8645371},null,38,7975420]
[null,null,null,null,null,null,null,null,null,"Segovia","segovia",{"$f":"+datos_mapa!C41","v":11},{"$f":"TEXT(datos_mapa!D41,\"0,0%\")","v":"15,1%"},{"$f":"TEXT(datos_mapa!E41,\"0,0%\")","v":"15,1%"},{"$f":"TEXT(datos_mapa!F41,\"0,0%\")","v":"-2,1%"},null,{"$f":"VLOOKUP(datos_mapa!H41,mapa!$V$4:$W$55,2,0)","v":7574267},{"$f":"+VLOOKUP(datos_mapa!I41,mapa!$V$4:$W$55,2,0)","v":7841788},{"$f":"VLOOKUP(datos_mapa!J41,mapa!$V$4:$W$55,2,0)","v":8377260},{"$f":"VLOOKUP(datos_mapa!K41,mapa!$V$4:$W$55,2,0)","v":8510207},null,39,7908604]
[null,null,null,null,null,null,null,null,null,"Sevilla","sevilla",{"$f":"+datos_mapa!C42","v":50},{"$f":"TEXT(datos_mapa!D42,\"0,0%\")","v":"18,9%"},{"$f":"TEXT(datos_mapa!E42,\"0,0%\")","v":"18,9%"},{"$f":"TEXT(datos_mapa!F42,\"0,0%\")","v":"-9,5%"},null,{"$f":"VLOOKUP(datos_mapa!H42,mapa!$V$4:$W$55,2,0)","v":8109667},{"$f":"+VLOOKUP(datos_mapa!I42,mapa!$V$4:$W$55,2,0)","v":8042237},{"$f":"VLOOKUP(datos_mapa!J42,mapa!$V$4:$W$55,2,0)","v":8444094},{"$f":"VLOOKUP(datos_mapa!K42,mapa!$V$4:$W$55,2,0)","v":8244371},null,40,7841788]
[null,null,null,null,null,null,null,null,null,"Soria","soria",{"$f":"+datos_mapa!C43","v":39},{"$f":"TEXT(datos_mapa!D43,\"0,0%\")","v":"14,5%"},{"$f":"TEXT(datos_mapa!E43,\"0,0%\")","v":"14,5%"},{"$f":"TEXT(datos_mapa!F43,\"0,0%\")","v":"-4,5%"},null,{"$f":"VLOOKUP(datos_mapa!H43,mapa!$V$4:$W$55,2,0)","v":8378040},{"$f":"+VLOOKUP(datos_mapa!I43,mapa!$V$4:$W$55,2,0)","v":7774972},{"$f":"VLOOKUP(datos_mapa!J43,mapa!$V$4:$W$55,2,0)","v":8311206},{"$f":"VLOOKUP(datos_mapa!K43,mapa!$V$4:$W$55,2,0)","v":8644335},null,41,7774972]
[null,null,null,null,null,null,null,null,null,"Tarragona","tarragona",{"$f":"+datos_mapa!C44","v":46},{"$f":"TEXT(datos_mapa!D44,\"0,0%\")","v":"40,1%"},{"$f":"TEXT(datos_mapa!E44,\"0,0%\")","v":"40,1%"},{"$f":"TEXT(datos_mapa!F44,\"0,0%\")","v":"-2,4%"},null,{"$f":"VLOOKUP(datos_mapa!H44,mapa!$V$4:$W$55,2,0)","v":8244371},{"$f":"+VLOOKUP(datos_mapa!I44,mapa!$V$4:$W$55,2,0)","v":8643839},{"$f":"VLOOKUP(datos_mapa!J44,mapa!$V$4:$W$55,2,0)","v":8644853},{"$f":"VLOOKUP(datos_mapa!K44,mapa!$V$4:$W$55,2,0)","v":8577023},null,42,7707899]
[null,null,null,null,null,null,null,null,null,"Santa Cruz de Tenerife","tenerife",{"$f":"+datos_mapa!C45","v":13},{"$f":"TEXT(datos_mapa!D45,\"0,0%\")","v":"3,5%"},{"$f":"TEXT(datos_mapa!E45,\"0,0%\")","v":"3,5%"},{"$f":"TEXT(datos_mapa!F45,\"0,0%\")","v":"-9,4%"},null,{"$f":"VLOOKUP(datos_mapa!H45,mapa!$V$4:$W$55,2,0)","v":7707899},{"$f":"+VLOOKUP(datos_mapa!I45,mapa!$V$4:$W$55,2,0)","v":7173369},{"$f":"VLOOKUP(datos_mapa!J45,mapa!$V$4:$W$55,2,0)","v":8110447},{"$f":"VLOOKUP(datos_mapa!K45,mapa!$V$4:$W$55,2,0)","v":8310688},null,43,7641083]
[null,null,null,null,null,null,null,null,null,"Teruel","teruel",{"$f":"+datos_mapa!C46","v":49},{"$f":"TEXT(datos_mapa!D46,\"0,0%\")","v":"42,6%"},{"$f":"TEXT(datos_mapa!E46,\"0,0%\")","v":"42,6%"},{"$f":"TEXT(datos_mapa!F46,\"0,0%\")","v":"-5,4%"},null,{"$f":"VLOOKUP(datos_mapa!H46,mapa!$V$4:$W$55,2,0)","v":8110447},{"$f":"+VLOOKUP(datos_mapa!I46,mapa!$V$4:$W$55,2,0)","v":8644853},{"$f":"VLOOKUP(datos_mapa!J46,mapa!$V$4:$W$55,2,0)","v":8643839},{"$f":"VLOOKUP(datos_mapa!K46,mapa!$V$4:$W$55,2,0)","v":8510929},null,44,7574267]
[null,null,null,null,null,null,null,null,null,"Toledo","toledo",{"$f":"+datos_mapa!C47","v":38},{"$f":"TEXT(datos_mapa!D47,\"0,0%\")","v":"6,4%"},{"$f":"TEXT(datos_mapa!E47,\"0,0%\")","v":"6,4%"},{"$f":"TEXT(datos_mapa!F47,\"0,0%\")","v":"-8,6%"},null,{"$f":"VLOOKUP(datos_mapa!H47,mapa!$V$4:$W$55,2,0)","v":8510667},{"$f":"+VLOOKUP(datos_mapa!I47,mapa!$V$4:$W$55,2,0)","v":7574267},{"$f":"VLOOKUP(datos_mapa!J47,mapa!$V$4:$W$55,2,0)","v":8244371},{"$f":"VLOOKUP(datos_mapa!K47,mapa!$V$4:$W$55,2,0)","v":8311206},null,45,7507450]
[null,null,null,null,null,null,null,null,null,"Valencia","valencia",{"$f":"+datos_mapa!C48","v":24},{"$f":"TEXT(datos_mapa!D48,\"0,0%\")","v":"74,4%"},{"$f":"TEXT(datos_mapa!E48,\"0,0%\")","v":"74,4%"},{"$f":"TEXT(datos_mapa!F48,\"0,0%\")","v":"-6,5%"},null,{"$f":"VLOOKUP(datos_mapa!H48,mapa!$V$4:$W$55,2,0)","v":8175869},{"$f":"+VLOOKUP(datos_mapa!I48,mapa!$V$4:$W$55,2,0)","v":8377522},{"$f":"VLOOKUP(datos_mapa!J48,mapa!$V$4:$W$55,2,0)","v":7908604},{"$f":"VLOOKUP(datos_mapa!K48,mapa!$V$4:$W$55,2,0)","v":8444612},null,46,7440634]
[null,null,null,null,null,null,null,null,null,"Valladolid","valladolid",{"$f":"+datos_mapa!C49","v":29},{"$f":"TEXT(datos_mapa!D49,\"0,0%\")","v":"91,8%"},{"$f":"TEXT(datos_mapa!E49,\"0,0%\")","v":"91,8%"},{"$f":"TEXT(datos_mapa!F49,\"0,0%\")","v":"2,6%"},null,{"$f":"VLOOKUP(datos_mapa!H49,mapa!$V$4:$W$55,2,0)","v":8376318},{"$f":"+VLOOKUP(datos_mapa!I49,mapa!$V$4:$W$55,2,0)","v":8110447},{"$f":"VLOOKUP(datos_mapa!J49,mapa!$V$4:$W$55,2,0)","v":7173369},{"$f":"VLOOKUP(datos_mapa!K49,mapa!$V$4:$W$55,2,0)","v":7975420},null,47,7373818]
[null,null,null,null,null,null,null,null,null,"Vizcaya","vizcaya",{"$f":"+datos_mapa!C50","v":45},{"$f":"TEXT(datos_mapa!D50,\"0,0%\")","v":"95,4%"},{"$f":"TEXT(datos_mapa!E50,\"0,0%\")","v":"95,4%"},{"$f":"TEXT(datos_mapa!F50,\"0,0%\")","v":"15,9%"},null,{"$f":"VLOOKUP(datos_mapa!H50,mapa!$V$4:$W$55,2,0)","v":8310688},{"$f":"+VLOOKUP(datos_mapa!I50,mapa!$V$4:$W$55,2,0)","v":8109667},{"$f":"VLOOKUP(datos_mapa!J50,mapa!$V$4:$W$55,2,0)","v":7039480},{"$f":"VLOOKUP(datos_mapa!K50,mapa!$V$4:$W$55,2,0)","v":7039480},null,48,7307002]
[null,null,null,null,null,null,null,null,null,"Zamora","zamora",{"$f":"+datos_mapa!C51","v":7},{"$f":"TEXT(datos_mapa!D51,\"0,0%\")","v":"28,3%"},{"$f":"TEXT(datos_mapa!E51,\"0,0%\")","v":"28,3%"},{"$f":"TEXT(datos_mapa!F51,\"0,0%\")","v":"4,0%"},null,{"$f":"VLOOKUP(datos_mapa!H51,mapa!$V$4:$W$55,2,0)","v":7373818},{"$f":"+VLOOKUP(datos_mapa!I51,mapa!$V$4:$W$55,2,0)","v":8376318},{"$f":"VLOOKUP(datos_mapa!J51,mapa!$V$4:$W$55,2,0)","v":8577501},{"$f":"VLOOKUP(datos_mapa!K51,mapa!$V$4:$W$55,2,0)","v":7841788},null,49,7240185]
[null,null,null,null,null,null,null,null,null,"Zaragoza","zaragoza",{"$f":"+datos_mapa!C52","v":33},{"$f":"TEXT(datos_mapa!D52,\"0,0%\")","v":"74,9%"},{"$f":"TEXT(datos_mapa!E52,\"0,0%\")","v":"74,9%"},{"$f":"TEXT(datos_mapa!F52,\"0,0%\")","v":"13,8%"},null,{"$f":"VLOOKUP(datos_mapa!H52,mapa!$V$4:$W$55,2,0)","v":8710655},{"$f":"+VLOOKUP(datos_mapa!I52,mapa!$V$4:$W$55,2,0)","v":8377260},{"$f":"VLOOKUP(datos_mapa!J52,mapa!$V$4:$W$55,2,0)","v":7841788},{"$f":"VLOOKUP(datos_mapa!K52,mapa!$V$4:$W$55,2,0)","v":7106553},null,50,7173369]
[null,null,null,null,null,null,null,null,null,"Ceuta","ceuta",{"$f":"+datos_mapa!C53","v":4},{"$f":"TEXT(datos_mapa!D53,\"0,0%\")","v":"59,4%"},{"$f":"TEXT(datos_mapa!E53,\"0,0%\")","v":"59,4%"},{"$f":"TEXT(datos_mapa!F53,\"0,0%\")","v":"-27,3%"},null,{"$f":"VLOOKUP(datos_mapa!H53,mapa!$V$4:$W$55,2,0)","v":7173369},{"$f":"+VLOOKUP(datos_mapa!I53,mapa!$V$4:$W$55,2,0)","v":8577501},{"$f":"VLOOKUP(datos_mapa!J53,mapa!$V$4:$W$55,2,0)","v":8376318},{"$f":"VLOOKUP(datos_mapa!K53,mapa!$V$4:$W$55,2,0)","v":8109929},null,51,7106553]
[null,null,null,null,null,null,null,null,null,"Melilla","melilla",{"$f":"+datos_mapa!C54","v":28},{"$f":"TEXT(datos_mapa!D54,\"0,0%\")","v":"82,4%"},{"$f":"TEXT(datos_mapa!E54,\"0,0%\")","v":"82,4%"},{"$f":"TEXT(datos_mapa!F54,\"0,0%\")","v":"-27,3%"},null,{"$f":"VLOOKUP(datos_mapa!H54,mapa!$V$4:$W$55,2,0)","v":8309502},{"$f":"+VLOOKUP(datos_mapa!I54,mapa!$V$4:$W$55,2,0)","v":8310170},{"$f":"VLOOKUP(datos_mapa!J54,mapa!$V$4:$W$55,2,0)","v":7641083},{"$f":"VLOOKUP(datos_mapa!K54,mapa!$V$4:$W$55,2,0)","v":8109929},null,52,7039480]